0.500000
0.000000
0.000000
-0.500000
2881667.250000
375409.750000
