0.500000
0.000000
0.000000
-0.500000
2873723.250000
377696.750000
