0.500000
0.000000
0.000000
-0.500000
2865765.750000
374705.250000
