0.500000
0.000000
0.000000
-0.500000
2868178.250000
382743.750000
