0.500000
0.000000
0.000000
-0.500000
2878856.250000
380579.750000
