0.500000
0.000000
0.000000
-0.500000
2884134.750000
380823.250000
