0.500000
0.000000
0.000000
-0.500000
2884029.750000
383462.750000
