0.500000
0.000000
0.000000
-0.500000
2889322.250000
383693.250000
