0.500000
0.000000
0.000000
-0.500000
2892070.250000
381197.250000
