0.500000
0.000000
0.000000
-0.500000
2883792.750000
388761.250000
