0.500000
0.000000
0.000000
-0.500000
2878491.750000
388527.750000
