0.500000
0.000000
0.000000
-0.500000
2870548.250000
388143.250000
