0.500000
0.000000
0.000000
-0.500000
2886346.750000
391519.250000
