0.500000
0.000000
0.000000
-0.500000
2891628.750000
391812.250000
