0.500000
0.000000
0.000000
-0.500000
2891422.750000
397107.250000
