0.500000
0.000000
0.000000
-0.500000
2893965.750000
399824.750000
