0.500000
0.000000
0.000000
-0.500000
2875452.750000
398980.250000
