0.500000
0.000000
0.000000
-0.500000
2878115.750000
399085.250000
