0.500000
0.000000
0.000000
-0.500000
2870246.250000
396100.250000
