0.500000
0.000000
0.000000
-0.500000
2864636.250000
401155.750000
