0.500000
0.000000
0.000000
-0.500000
2893731.750000
404813.750000
