0.500000
0.000000
0.000000
-0.500000
2899915.250000
384194.250000
