0.500000
0.000000
0.000000
-0.500000
2904938.250000
384468.250000
