0.500000
0.000000
0.000000
-0.500000
2913052.250000
382259.750000
