0.500000
0.000000
0.000000
-0.500000
2915266.750000
390323.750000
