0.500000
0.000000
0.000000
-0.500000
2899664.750000
389489.750000
