0.500000
0.000000
0.000000
-0.500000
2899412.750000
394769.250000
