0.500000
0.000000
0.000000
-0.500000
2907060.750000
395196.250000
