0.500000
0.000000
0.000000
-0.500000
2912369.750000
395471.750000
