0.500000
0.000000
0.000000
-0.500000
2912492.750000
392835.750000
