0.500000
0.000000
0.000000
-0.500000
2925550.750000
396150.250000
