0.500000
0.000000
0.000000
-0.500000
2917416.750000
400995.750000
