0.500000
0.000000
0.000000
-0.500000
2901615.250000
400180.250000
