0.500000
0.000000
0.000000
-0.500000
2904109.750000
402873.250000
