0.500000
0.000000
0.000000
-0.500000
2917300.250000
403638.750000
