0.500000
0.000000
0.000000
-0.500000
2922542.250000
403937.750000
