0.500000
0.000000
0.000000
-0.500000
2928698.250000
385708.250000
