0.500000
0.000000
0.000000
-0.500000
2928852.750000
383066.250000
