0.500000
0.000000
0.000000
-0.500000
2927937.750000
401581.250000
