0.500000
0.000000
0.000000
-0.500000
2990063.250000
380936.750000
