0.500000
0.000000
0.000000
-0.500000
2986942.250000
388683.750000
