0.500000
0.000000
0.000000
-0.500000
2989797.250000
386185.250000
