0.500000
0.000000
0.000000
-0.500000
2986811.750000
391314.750000
