0.500000
0.000000
0.000000
-0.500000
2986550.750000
396610.750000
