0.500000
0.000000
0.000000
-0.500000
2999259.250000
384030.750000
