0.500000
0.000000
0.000000
-0.500000
2893284.250000
346981.750000
