0.500000
0.000000
0.000000
-0.500000
2888181.250000
344135.250000
