0.500000
0.000000
0.000000
-0.500000
2895755.250000
349689.250000
