0.500000
0.000000
0.000000
-0.500000
2900767.750000
355158.250000
