0.500000
0.000000
0.000000
-0.500000
2900621.750000
357790.250000
